BEGIN:VCALENDAR
VERSION:2.0
PRODID:-//wp-events-plugin.com//7.2.3.1//EN
BEGIN:VEVENT
UID:10@skizunft-weilderstadt.de
DTSTART;VALUE=DATE:20260228
DTEND;VALUE=DATE:20260301
DTSTAMP:20260225T220822Z
URL:https://www.skizunft-weilderstadt.de/ausfahrten/tagesausfahrt-sonnenko
 pf-2026/
SUMMARY:Tagesausfahrt Sonnenkopf
DESCRIPTION:\n\n\nDas mittlerweile weit über die Grenzen Vorarlbergs hinau
 s bekannte und beliebte Familien-Skigebiet Sonnenkopf liegt direkt am Fuß
 e des weltbekannten Arlbergs. Aufgrund der optimalen Höhenlage (bis 2.300
  m) ist der Sonnenkopf als eines der wenigen Naturschnee-Skigebiete bekann
 t. Erholsame Winterwanderwege sowie eine tolle Rodelbahn lassen auch die H
 erzen der Nichtskifahrer höher schlagen. Egal ob Kinder oder Erwachsene\,
  Anfänger oder Profis\, oben angekommen finden sich für alle eine wahre 
 Vielfalt an Skiabfahrten und Winterwanderwegen. Besonders das großartige 
 Back-Country-Gebiet ist bei den Freeridern sehr beliebt.\n\nInfos zum Skig
 ebiet: https://sonnenkopf.com/\n\n\n\nTagesablauf:\n\n 	Fahrt von Weil der
  Stadt in das Skigebiet im komfortablen Reisebus.\n 	Ankunft im Skigebiet 
 gegen 9.00 Uhr.\n 	Skifahren im Skigebiet "Sonnekopf"\n 	Rückfahrt um 18.
 00 Uhr\n 	Rückkehr gegen 22.30 Uhr.\n\nAbfahrtszeiten:\n\n\n\n 	Festplatz
  Weil der Stadt\, 04:30 Uhr\n\nInklusivleistungen:\n\n 	Bustransfer in das
  Skigebiet\n 	Tagesskipass für das Skigebiet „Sonnenkopf“ - im Wert v
 on 58\,00 € (Erwachsene)\n\n&nbsp\;\n\n\n\n\nSonstige Hinweise:\n\n 	Min
 destteilnehmerzahl: 20 Personen\n 	Es gelten die Reisebedingungen der Skiz
 unft Weil der Stadt e.V.\n 	Anmeldeschluss: Sonntag\, 22.02.2026\n\n\n\nTa
 rife &amp\; Verfügbarkeit:\n\n 	Preisstaffelung siehe unten\n 	Frühbuche
 rpreise bis 4 Wochen vor Ausfahrt verfügbar (31.01.2026)\n 	Buchung für
  Mitglieder der Skizunft ab 01.10.2025 möglich\, für Nichtmitglieder 
 ab 01.11.2025.\n\n\n\n\n\n\n\nKategorie\nPreis\nfür Mitglieder\nFrühbuch
 er\nMitglieder\nPreis für\nNichtmitglieder\nFrühbucher\nNichtmitglieder\
 n\n\nErwachsene\n                105\,00 €\n       
 100\,00 €\n       123\,00 €\n       119\,00 €\n\n\nSenio
 ren\n(bis 1961)\n                100\,00 €\n      
     95\,00 €\n       118\,00 €\n       114\,00 €\n\n\
 nJugendliche\n(2006 - 2009)\n                   91\,00 
 €\n          86\,00 €\n       108\,00 €\n      
  103\,00 €\n\n\nKinder\n(2010 - 2017)\n                
    81\,00 €\n          76\,00 €\n          98\,00 
 €\n          93\,00 €\n\n\nFußgänger\n          
          55\,00 €\n          52\,00 €\n       
    68\,00 €\n          62\,00 €\n\n\n\n\nAnsprechpartner:\n
 \n\n\nFabian Baiter\nAusfahrten-Manager\nDein Ansprechpartner aller Anlieg
 en zu diesem Event.\nE-Mail: f.baiter@skizunft-weilderstadt.de\n&nbsp\;
ATTACH;FMTTYPE=image/jpeg:https://www.skizunft-weilderstadt.de/wp-content/
 uploads/2022/10/Sonnenkopf.jpg
LOCATION:Sonnenkopf\, Sonnenkopfbahn\, Klösterle\, 6754\, Österreich
GEO:47.128577;10.055877
X-APPLE-STRUCTURED-LOCATION;VALUE=URI;X-ADDRESS=Sonnenkopfbahn\, Klösterle
 \, 6754\, Österreich;X-APPLE-RADIUS=100;X-TITLE=Sonnenkopf:geo:47.128577,
 10.055877
END:VEVENT
END:VCALENDAR